BEGIN:VCALENDAR
VERSION:2.0
PRODID:-//SNAP Charity - ECPv6.7.0//NONSGML v1.0//EN
CALSCALE:GREGORIAN
METHOD:PUBLISH
X-ORIGINAL-URL:https://www.snapcharity.org
X-WR-CALDESC:Events for SNAP Charity
REFRESH-INTERVAL;VALUE=DURATION:PT1H
X-Robots-Tag:noindex
X-PUBLISHED-TTL:PT1H
BEGIN:VTIMEZONE
TZID:Europe/London
BEGIN:DAYLIGHT
TZOFFSETFROM:+0000
TZOFFSETTO:+0100
TZNAME:BST
DTSTART:20220327T010000
END:DAYLIGHT
BEGIN:STANDARD
TZOFFSETFROM:+0100
TZOFFSETTO:+0000
TZNAME:GMT
DTSTART:20221030T010000
END:STANDARD
BEGIN:DAYLIGHT
TZOFFSETFROM:+0000
TZOFFSETTO:+0100
TZNAME:BST
DTSTART:20230326T010000
END:DAYLIGHT
BEGIN:STANDARD
TZOFFSETFROM:+0100
TZOFFSETTO:+0000
TZNAME:GMT
DTSTART:20231029T010000
END:STANDARD
BEGIN:DAYLIGHT
TZOFFSETFROM:+0000
TZOFFSETTO:+0100
TZNAME:BST
DTSTART:20240331T010000
END:DAYLIGHT
BEGIN:STANDARD
TZOFFSETFROM:+0100
TZOFFSETTO:+0000
TZNAME:GMT
DTSTART:20241027T010000
END:STANDARD
BEGIN:DAYLIGHT
TZOFFSETFROM:+0000
TZOFFSETTO:+0100
TZNAME:BST
DTSTART:20250330T010000
END:DAYLIGHT
BEGIN:STANDARD
TZOFFSETFROM:+0100
TZOFFSETTO:+0000
TZNAME:GMT
DTSTART:20251026T010000
END:STANDARD
BEGIN:DAYLIGHT
TZOFFSETFROM:+0000
TZOFFSETTO:+0100
TZNAME:BST
DTSTART:20260329T010000
END:DAYLIGHT
BEGIN:STANDARD
TZOFFSETFROM:+0100
TZOFFSETTO:+0000
TZNAME:GMT
DTSTART:20261025T010000
END:STANDARD
END:VTIMEZONE
BEGIN:VEVENT
DTSTART;TZID=Europe/London:20260322T100000
DTEND;TZID=Europe/London:20260322T140000
DTSTAMP:20260422T093238
CREATED:20260126T112708Z
LAST-MODIFIED:20260128T093146Z
UID:23671-1774173600-1774188000@www.snapcharity.org
SUMMARY:Matchroom Brentwood Half Marathon 2026
DESCRIPTION:[vc_row][vc_column][/vc_column][/vc_row][vc_row full_width=”stretch_row” bg_type=”bg_color” seperator_enable=”seperator_enable_value” seperator_type=”tilt_left_seperator” seperator_position=”bottom_seperator” seperator_svg_height=”70″ seperator_shape_background=”#ffffff” css=”.vc_custom_1527334772679{margin-bottom: 50px !important;padding-top: 0px !important;padding-bottom: 40px !important;}” bg_color_value=”#f7ecfa” el_class=”herotilt”][vc_column][vc_column_text]\nMatchroom Brentwood Half Marathon 2026\nMarch 22 10:00 am – 2:00 pm\n [/vc_column_text][/vc_column][/vc_row][vc_row][vc_column width=”2/3″][vc_column_text][/vc_column_text][vc_column_text] \nWant to do something amazing in 2026 – Would you run for SNAP?\nSupport SNAP and achieve your fitness goals by taking part in this year’s Matchroom Brentwood Half Marathon on 22nd March 2026. \nThe very popular 13 mile run passes through the beautiful countryside of Brentwood\, before finishing back in the town centre. As well as the great atmosphere of this event\, there will be plenty of supporters cheering you around the course and at the start/finish line to give you an extra boost! \nAll of the money raised through sponsorship at this event will help support the SNAP services and activities which make such a difference to the lives of families across Essex. \n  \nLast year’s event has received an award from Brentwood and Rochford Councils as the ‘Sporting Event of the Year 2025″ \nRecognition for over 40 years of the event raising more than £3 million for good causes. \n  \nRegister Your Place Here: \nRegister your place for this event through Bentwood Half Marathon’s affiliates. All Entries and Transfers will close on Friday 16th March 2026 unless they are sold-out earlier.\n \nWe don’t get notified when you sign up\, so once you’re registered with the Brentwood Half Marathon please make sure to contact us at fundraising@snapcharity.org or call 01277 245345 to share the good news and let us know you are supporting SNAP so that we can support your efforts on our behalf!\n  \nFor further information please refer to the official Brentwood Half Marathon Website. \nAge restrictions: \nBrentwood Half Marathon: 17 years of age or older on event day.\n \n[/vc_column_text][vc_column_text el_class=”event-infoblock”]\nStart: March 22\, 10:00 am\nEnd: March 22\, 2:00 pm\n\nVenue: Sawyer’s Hall Lane \nSawyer's Hall Lane\, Brentwood\, Essex\, United Kingdom \n\n [/vc_column_text] \n[/vc_column] \n[vc_column width=”1/3″][vc_widget_sidebar sidebar_id=”sidebar_5″][/vc_column][/vc_row][vc_row full_width=”stretch_row”][vc_column]\n	\n		\n			Request to receive Parent and Carer support \n\n		\n	\nGet Help\n	\n		\n			Help support The SNAP Centre and Services \n\n		\n	\nGet Involved\n	\n		\n			Enquire about volunteering opportunities at SNAP \n\n		\n	\nGet Volunteering\n	\n		\n			Follow Us\n\n		\n	\n\n	\n		\n			 \n		\n	\n\n	\n		\n			Helpline: 01277 211300\nEmail: familyteam@snapcharity.org\n9.00am until 4.00pm Monday to Thursday\nand 9.00am until 3.00pm on Friday. \n\n		\n	\n\n	\n		\n			Volunteer for SNAP\nHelping out at our centre or supporting one of our many activities. Find out more » \n\n		\n	\n\n	\n		\n		\n			\n		\n	\n\n	\n		\n		\n			\n		\n	\n\n	\n		\n			Directory/Our Impact/Need Support/Get Involved/About/Contact/Terms & Conditions/Privacy Policy/Cookie Policy/Safeguarding/Compliments & Complaints/Accessibility \n\n		\n	\n[/vc_column][/vc_row]
URL:https://www.snapcharity.org/event/brentwood-half-marathon-2026/
LOCATION:Sawyer’s Hall Lane\, Sawyer's Hall Lane\, Brentwood\, Essex\, United Kingdom
CATEGORIES:Get Involved,Sponsored
ATTACH;FMTTYPE=image/png:https://www.snapcharity.org/wp-content/uploads/2026/01/Brentwood-Half-Marathon-2026-website.png
GEO:51.6265187;0.3040836
X-APPLE-STRUCTURED-LOCATION;VALUE=URI;X-ADDRESS=Sawyer’s Hall Lane Sawyer's Hall Lane Brentwood Essex United Kingdom;X-APPLE-RADIUS=500;X-TITLE=Sawyer's Hall Lane:geo:0.3040836,51.6265187
END:VEVENT
BEGIN:VEVENT
DTSTART;TZID=Europe/London:20220320T100000
DTEND;TZID=Europe/London:20220320T140000
DTSTAMP:20260422T093238
CREATED:20181115T152432Z
LAST-MODIFIED:20211110T120753Z
UID:7150-1647770400-1647784800@www.snapcharity.org
SUMMARY:Brentwood Half Marathon
DESCRIPTION:Brentwood Half Marathon\nMarch 20\, 2022 10:00 am – 2:00 pm\n \n\n		\n	\n\n	\n		\n			\n\n		\n	\n\n	\n		\n			Set off 2022 by doing something amazing!\nSupport SNAP services and achieve your fitness goals by taking part in this very popular 13 mile run around Brentwood. \nThe Brentwood Half Marathon passes through the beautiful countryside of Brentwood\, before finishing back in the town centre. As well as the great atmosphere of this event\, there will be plenty supporters cheering you around the course and at the start/finish line to give you an extra boost! \nAll of the money raised through sponsorship at this event will help support the SNAP services and activities which make such a difference to the lives of families across Essex. \n“Without doubt\, one of the best organised road races of any distance\, not just in Essex\, but the whole country” UKA Race Referee Report\n  \nHow about a fun run instead?\nThe Brentwood Fun Run (3 miles) starts and finishes at the same location as the Half Marathon\, travelling around the parks of Shenfield. This fun run is great for families\, friends and school groups alike. \n  \nRegister Your Place Here: \nhttps://www.brentwoodhalf.org/enter\nRegister your place for either of these events through Bentwood Half Marathon’s affiliates. All Entries and Transfers will close on Friday 18th March 2022 unless they are sold-out earlier.\n \nWe don’t get notified when you sign up\, so once you’re registered with the Brentwood Half Marathon please make sure to contact us at fundraising@snapcharity.org or call 01277 245345 to share the good news and let us know you are supporting SNAP so that we can support your efforts on our behalf!\n  \nFor further information please refer to the official Brentwood Half Marathon Website. \nAge restrictions: \nBrentwood Half Marathon: 17 years of age or older on event day.\nBrentwood Fun Run: 8 years of age or older on event day. Children under the age of 12 years on event day must be accompanied by a responsible adult. \n\n		\n	\n\n	\n		\n			\nStart: March 20\, 2022\, 10:00 am\nEnd: March 20\, 2022\, 2:00 pm\n\nVenue: Sawyer’s Hall Lane \nSawyer's Hall Lane\, Brentwood\, Essex\, United Kingdom \n\n \n\n		\n	\n\n\n		\n			\n			\n		\n	\n\n	\n		\n			Request to receive Parent and Carer support \n\n		\n	\nGet Help\n	\n		\n			Help support The SNAP Centre and Services \n\n		\n	\nGet Involved\n	\n		\n			Enquire about volunteering opportunities at SNAP \n\n		\n	\nGet Volunteering\n	\n		\n			Follow Us\n\n		\n	\n\n	\n		\n			 \n		\n	\n\n	\n		\n			Helpline: 01277 211300\nEmail: familyteam@snapcharity.org\n9.00am until 4.00pm Monday to Thursday\nand 9.00am until 3.00pm on Friday. \n\n		\n	\n\n	\n		\n			Volunteer for SNAP\nHelping out at our centre or supporting one of our many activities. Find out more » \n\n		\n	\n\n	\n		\n		\n			\n		\n	\n\n	\n		\n		\n			\n		\n	\n\n	\n		\n			Directory/Our Impact/Need Support/Get Involved/About/Contact/Terms & Conditions/Privacy Policy/Cookie Policy/Safeguarding/Compliments & Complaints/Accessibility
URL:https://www.snapcharity.org/event/brentwood-half-marathon/
LOCATION:Sawyer’s Hall Lane\, Sawyer's Hall Lane\, Brentwood\, Essex\, United Kingdom
CATEGORIES:Get Involved,Sponsored
ATTACH;FMTTYPE=image/png:https://www.snapcharity.org/wp-content/uploads/2018/11/Brentwod-half-marathon.png
GEO:51.6265187;0.3040836
X-APPLE-STRUCTURED-LOCATION;VALUE=URI;X-ADDRESS=Sawyer’s Hall Lane Sawyer's Hall Lane Brentwood Essex United Kingdom;X-APPLE-RADIUS=500;X-TITLE=Sawyer's Hall Lane:geo:0.3040836,51.6265187
END:VEVENT
END:VCALENDAR