BEGIN:VCALENDAR
VERSION:2.0
PRODID:-//SNAP Charity - ECPv6.7.0//NONSGML v1.0//EN
CALSCALE:GREGORIAN
METHOD:PUBLISH
X-ORIGINAL-URL:https://www.snapcharity.org
X-WR-CALDESC:Events for SNAP Charity
REFRESH-INTERVAL;VALUE=DURATION:PT1H
X-Robots-Tag:noindex
X-PUBLISHED-TTL:PT1H
BEGIN:VTIMEZONE
TZID:Europe/London
BEGIN:DAYLIGHT
TZOFFSETFROM:+0000
TZOFFSETTO:+0100
TZNAME:BST
DTSTART:20240331T010000
END:DAYLIGHT
BEGIN:STANDARD
TZOFFSETFROM:+0100
TZOFFSETTO:+0000
TZNAME:GMT
DTSTART:20241027T010000
END:STANDARD
END:VTIMEZONE
BEGIN:VEVENT
DTSTART;TZID=Europe/London:20240517T190000
DTEND;TZID=Europe/London:20240517T223000
DTSTAMP:20260424T084843
CREATED:20240426T085534Z
LAST-MODIFIED:20240426T094018Z
UID:19421-1715972400-1715985000@www.snapcharity.org
SUMMARY:Phoenix FM's Casino Night in aid of SNAP
DESCRIPTION:[vc_row][vc_column][/vc_column][/vc_row][vc_row full_width=”stretch_row” bg_type=”bg_color” seperator_enable=”seperator_enable_value” seperator_type=”tilt_left_seperator” seperator_position=”bottom_seperator” seperator_svg_height=”70″ seperator_shape_background=”#ffffff” css=”.vc_custom_1527334772679{margin-bottom: 50px !important;padding-top: 0px !important;padding-bottom: 40px !important;}” bg_color_value=”#f7ecfa” el_class=”herotilt”][vc_column][vc_column_text]\nPhoenix FM’s Casino Night in aid of SNAP\nFriday 17th May 2024\nIn aid of SNAP (Local event)\n [/vc_column_text][/vc_column][/vc_row][vc_row][vc_column width=”2/3″][vc_column_text][/vc_column_text][vc_column_text] \nJoin Phoenix FM and SNAP at the tables on Friday 17th May at Brentwood Rugby Club to try your luck at a casino night in aid of SNAP! \n£35 per head\nTables of 6 to 10 available\nEach ticket includes two course meal and 10 fun casino chips – arrive from 7pm for 7.30pm sit down. \n  \nToo rich for your blood?  \nThere are also bar tickets available for £20\, which includes first 10 fun casino chips\nBar ticket arrivals for 8.30pm. \nClick here to contact Phoenix FM’s Steve Roach to book or if you have any questions about this event.\n[/vc_column_text][vc_column_text el_class=”event-infoblock”]\nStart: May 17\, 2024\, 7:00 pm\nCost: From £20\n\nVenue: Brentwood Rugby Club\, King George’s Playing Fields\, Ingrave Rd\, Brentwood CM13 2AQ \n\n [/vc_column_text][/vc_column][vc_column width=”1/3″][vc_widget_sidebar sidebar_id=”sidebar_5″][/vc_column][/vc_row][vc_row full_width=”stretch_row”][vc_column]\n	\n		\n			Request to receive Parent and Carer support \n\n		\n	\nGet Help\n	\n		\n			Help support The SNAP Centre and Services \n\n		\n	\nGet Involved\n	\n		\n			Enquire about volunteering opportunities at SNAP \n\n		\n	\nGet Volunteering\n	\n		\n			Follow Us\n\n		\n	\n\n	\n		\n			 \n		\n	\n\n	\n		\n			Helpline: 01277 211300\nEmail: familyteam@snapcharity.org\n9.00am until 4.00pm Monday to Thursday\nand 9.00am until 3.00pm on Friday. \n\n		\n	\n\n	\n		\n			Volunteer for SNAP\nHelping out at our centre or supporting one of our many activities. Find out more » \n\n		\n	\n\n	\n		\n		\n			\n		\n	\n\n	\n		\n		\n			\n		\n	\n\n	\n		\n			Directory/Our Impact/Need Support/Get Involved/About/Contact/Terms & Conditions/Privacy Policy/Cookie Policy/Safeguarding/Compliments & Complaints/Accessibility \n\n		\n	\n[/vc_column][/vc_row]
URL:https://www.snapcharity.org/event/casino-night/
CATEGORIES:Get Involved,Local event,SNAP Social Events
ATTACH;FMTTYPE=image/png:https://www.snapcharity.org/wp-content/uploads/2024/04/Phoenix-FM-casino-1.png
END:VEVENT
END:VCALENDAR